BEGIN:VCALENDAR
VERSION:2.0
PRODID:-//Trawler-Calendar-Tool 0.2
METHOD:PUBLISH
BEGIN:VTIMEZONE
TZID:Europe/Berlin
BEGIN:STANDARD
TZNAME:CET
DTSTART:20100101T010000
RRULE:FREQ=YEARLY;BYDAY=-1SU;BYMONTH=10
TZOFFSETFROM:+0200
TZOFFSETTO:+0100
END:STANDARD
BEGIN:DAYLIGHT
TZNAME:CEST
DTSTART:20100101T010000
RRULE:FREQ=YEARLY;BYDAY=-1SU;BYMONTH=3
TZOFFSETFROM:+0100
TZOFFSETTO:+0200
END:DAYLIGHT
END:VTIMEZONE
X-WR-TIMEZONE:Europe/Berlin
X-ORIGINAL-URL:https://www.spd-vorderes-härtsfeld.de/termine/
BEGIN:VEVENT
DTSTART;TZID=Europe/Berlin:20260509T100000
DTEND;TZID=Europe/Berlin:20260509T140000
LOCATION:Donauhallen Donaueschingen (An der Donauhalle 2\, 78166 Donaueschingen)
SUMMARY:Regionalkonferenz Südbaden
DESCRIPTION:Wir wollen deine Stimme
   hören!
 
 Dafür kommen wir zu dir: Auf vier
   Regionalkonferenzen im ganzen Land legen wir gemeinsam das Fundament
   für
   morgen.
 
 Digitale-Konferenz  
    
 Für alle die es nicht zu einem der Vor-Ort-Terminen
   schafften\, wird es zusätzlich eine Digitale-Konferenz geben. Der
   genaue Termin und Details werden noch bekanntgegeben.
 
 >>>Hier
   findet ihr den Einladungsflyer mit allen
   Informationen
 
 Anmeldung
 Um eine
   offene und vertrauensvolle Atmosphäre für unsere inhaltliche
   Neuaufstellung zu schaffen\, sind die Regionalkonferenzen parteiintern und
   nicht öffentlich.
 In jedem Regierungsbezirk findet eine
   Konferenz statt. Du kannst dir aber die Veranstaltung aussuchen\, die
   für dich zeitlich oder örtlich am besten passt.
 
 Melde
   dich jetzt an und gestalte den Kurs unserer SPD in Baden-Württemberg
   aktiv mit!
 
 Die Veranstaltung ist nicht-öffentlich
   und nur für SPD-Mitglieder geöffnet.
 
 >>>Hier gehts zur
   Anmeldung 
X-ALT-DESC;FMTTYPE=text/plain:Wir wollen deine Stimme
   h&ouml\;ren!
 
 Daf&uuml\;r kommen wir zu dir: Auf vier
   Regionalkonferenzen im ganzen Land legen wir gemeinsam das Fundament
   f&uuml\;r
   morgen.
 
 Digitale-Konferenz&nbsp\;&nbsp\;
   &nbsp\;
 F&uuml\;r alle die es nicht zu einem der Vor-Ort-Terminen
   schafften\, wird es zus&auml\;tzlich eine Digitale-Konferenz geben. Der
   genaue Termin und Details werden noch bekanntgegeben.
 
 &gt\;&gt\;&gt\;Hier
   findet ihr den Einladungsflyer mit allen
   Informationen
 
 Anmeldung
 Um eine
   offene und vertrauensvolle Atmosph&auml\;re f&uuml\;r unsere inhaltliche
   Neuaufstellung zu schaffen\, sind die Regionalkonferenzen parteiintern und
   nicht &ouml\;ffentlich.
 In jedem Regierungsbezirk findet eine
   Konferenz statt. Du kannst dir aber die Veranstaltung aussuchen\, die
   f&uuml\;r dich zeitlich oder &ouml\;rtlich am besten passt.
 
 Melde
   dich jetzt an und gestalte den Kurs unserer SPD in Baden-W&uuml\;rttemberg
   aktiv mit!
 
 Die Veranstaltung ist nicht-&ouml\;ffentlich
   und nur f&uuml\;r SPD-Mitglieder ge&ouml\;ffnet.
 
 &gt\;&gt\;&gt\;Hier gehts zur
   Anmeldung&nbsp\;
PRIORITY:5
UID:wscms192929-net-0bcd8cd1d351cea3fb74e3bf447da139
URL:https://www.xn--spd-vorderes-hrtsfeld-j2b.de/calendar192929.ics
END:VEVENT
END:VCALENDAR